BEGIN:VCALENDAR
VERSION:2.0
PRODID:-//Understanding Your Dog - ECPv6.15.11//NONSGML v1.0//EN
CALSCALE:GREGORIAN
METHOD:PUBLISH
X-WR-CALNAME:Understanding Your Dog
X-ORIGINAL-URL:https://theresadognc.com
X-WR-CALDESC:Events for Understanding Your Dog
REFRESH-INTERVAL;VALUE=DURATION:PT1H
X-Robots-Tag:noindex
X-PUBLISHED-TTL:PT1H
BEGIN:VTIMEZONE
TZID:America/New_York
BEGIN:DAYLIGHT
TZOFFSETFROM:-0500
TZOFFSETTO:-0400
TZNAME:EDT
DTSTART:20250309T070000
END:DAYLIGHT
BEGIN:STANDARD
TZOFFSETFROM:-0400
TZOFFSETTO:-0500
TZNAME:EST
DTSTART:20251102T060000
END:STANDARD
BEGIN:DAYLIGHT
TZOFFSETFROM:-0500
TZOFFSETTO:-0400
TZNAME:EDT
DTSTART:20260308T070000
END:DAYLIGHT
BEGIN:STANDARD
TZOFFSETFROM:-0400
TZOFFSETTO:-0500
TZNAME:EST
DTSTART:20261101T060000
END:STANDARD
BEGIN:DAYLIGHT
TZOFFSETFROM:-0500
TZOFFSETTO:-0400
TZNAME:EDT
DTSTART:20270314T070000
END:DAYLIGHT
BEGIN:STANDARD
TZOFFSETFROM:-0400
TZOFFSETTO:-0500
TZNAME:EST
DTSTART:20271107T060000
END:STANDARD
END:VTIMEZONE
BEGIN:VEVENT
DTSTART;VALUE=DATE:20260609
DTEND;VALUE=DATE:20260701
DTSTAMP:20260419T182950
CREATED:20260324T133818Z
LAST-MODIFIED:20260324T133818Z
UID:1657-1780963200-1782863999@theresadognc.com
SUMMARY:Training for Kids & Their Best Buddy
DESCRIPTION:Build a strong bond between your child & the family dog\nInstructor: Theresa Pitner\, CPDT \nLEARN: \n\nPerfecting the Focus\nFun Things to teach your dog\nWalking with the leash\nOpportunity to demonstrate what you have learned\n\nChild: 8yrs. – 16yrs.\nCanine: 10mo & Up
URL:https://theresadognc.com/event/training-for-kids-their-best-buddy/
CATEGORIES:Adults
ATTACH;FMTTYPE=image/jpeg:https://theresadognc.com/wp-content/uploads/2026/01/KIDS_June2026-Large.jpeg
END:VEVENT
END:VCALENDAR