BEGIN:VCALENDAR
VERSION:2.0
PRODID:-//Understanding Your Dog - ECPv6.15.11//NONSGML v1.0//EN
CALSCALE:GREGORIAN
METHOD:PUBLISH
X-WR-CALNAME:Understanding Your Dog
X-ORIGINAL-URL:https://theresadognc.com
X-WR-CALDESC:Events for Understanding Your Dog
REFRESH-INTERVAL;VALUE=DURATION:PT1H
X-Robots-Tag:noindex
X-PUBLISHED-TTL:PT1H
BEGIN:VTIMEZONE
TZID:America/New_York
BEGIN:DAYLIGHT
TZOFFSETFROM:-0500
TZOFFSETTO:-0400
TZNAME:EDT
DTSTART:20250309T070000
END:DAYLIGHT
BEGIN:STANDARD
TZOFFSETFROM:-0400
TZOFFSETTO:-0500
TZNAME:EST
DTSTART:20251102T060000
END:STANDARD
BEGIN:DAYLIGHT
TZOFFSETFROM:-0500
TZOFFSETTO:-0400
TZNAME:EDT
DTSTART:20260308T070000
END:DAYLIGHT
BEGIN:STANDARD
TZOFFSETFROM:-0400
TZOFFSETTO:-0500
TZNAME:EST
DTSTART:20261101T060000
END:STANDARD
BEGIN:DAYLIGHT
TZOFFSETFROM:-0500
TZOFFSETTO:-0400
TZNAME:EDT
DTSTART:20270314T070000
END:DAYLIGHT
BEGIN:STANDARD
TZOFFSETFROM:-0400
TZOFFSETTO:-0500
TZNAME:EST
DTSTART:20271107T060000
END:STANDARD
END:VTIMEZONE
BEGIN:VEVENT
DTSTART;VALUE=DATE:20260601
DTEND;VALUE=DATE:20260623
DTSTAMP:20260419T220528
CREATED:20260324T133233Z
LAST-MODIFIED:20260324T133233Z
UID:1654-1780272000-1782172799@theresadognc.com
SUMMARY:Puppy’s First Socialization Class
DESCRIPTION:Socializing your puppy is the key to ensuring you have a happy\, confident\, and well-adjusted dog.\nTrainer: Ellie Lambeth\, ABCDT \n\nLearn Basic Cues (Sit\, Down\, & Stay)\nUnderstanding Your Dog’s Body Language\nImpulse Control\nPrevention of Puppy Issues
URL:https://theresadognc.com/event/puppys-first-socialization-class/
CATEGORIES:Puppy
ATTACH;FMTTYPE=image/jpeg:https://theresadognc.com/wp-content/uploads/2026/01/Puppy-Socialize_June2026-Large.jpeg
END:VEVENT
BEGIN:VEVENT
DTSTART;VALUE=DATE:20260508
DTEND;VALUE=DATE:20260530
DTSTAMP:20260419T220528
CREATED:20260113T015352Z
LAST-MODIFIED:20260324T132520Z
UID:1626-1778198400-1780099199@theresadognc.com
SUMMARY:Fine-Tune Your Relationship with Your Dog
DESCRIPTION:Instructor: Tracy Crotts\, AKC Trick Trainer Evaluator\n\nLearn:\n\n\n• How to find the “Love Language” from your dog; Mat Work\, Tasty Treats\, & a lot of Tasty Treats\n• Understanding Cues to build a better Communication & Trust\n• Owners learn how to be patient & consistent with clear & positive reinforcement to avoid frustration & build confidence\n\nClasses are held at The Training Center at 1325 S. Fulton Street.
URL:https://theresadognc.com/event/fine-tune-your-relationship-with-your-dog/
CATEGORIES:Adults
ATTACH;FMTTYPE=image/jpeg:https://theresadognc.com/wp-content/uploads/2026/01/Relationship_05_2026-Large.jpeg
END:VEVENT
BEGIN:VEVENT
DTSTART;VALUE=DATE:20260418
DTEND;VALUE=DATE:20260510
DTSTAMP:20260419T220528
CREATED:20260113T020146Z
LAST-MODIFIED:20260113T020146Z
UID:1637-1776470400-1778371199@theresadognc.com
SUMMARY:Non-Competitive Agility Class
DESCRIPTION:Learn:\n• Understanding Educational Play\n• A Focus on Luring\n• Jumps\, Tunnel Work\, & Weave Poles\n\nClasses will be held OUTDOORS at Pitner Dog Park (315 Martin Luther King Jr. S.)
URL:https://theresadognc.com/event/non-competitive-agility-class-2/
CATEGORIES:Adults
ATTACH;FMTTYPE=image/jpeg:https://theresadognc.com/wp-content/uploads/2026/01/Agility_APR-2026-1.jpg
END:VEVENT
BEGIN:VEVENT
DTSTART;VALUE=DATE:20260413
DTEND;VALUE=DATE:20260505
DTSTAMP:20260419T220528
CREATED:20260113T020538Z
LAST-MODIFIED:20260113T020706Z
UID:1639-1776038400-1777939199@theresadognc.com
SUMMARY:Socialization Group Class
DESCRIPTION:Learn to manage:\n• Over Excitable/Barking\n• Attention Seeking/Jumping\n• Difficulty Walking on a Leash\n• Prevention of The Small Dog Syndrome (I’m So Cute!!)
URL:https://theresadognc.com/event/socialization-group-class/
CATEGORIES:Small Breeds
ATTACH;FMTTYPE=image/jpeg:https://theresadognc.com/wp-content/uploads/2026/01/Social_SmallBreed_2026.jpg
END:VEVENT
BEGIN:VEVENT
DTSTART;VALUE=DATE:20260316
DTEND;VALUE=DATE:20260407
DTSTAMP:20260419T220528
CREATED:20260113T015937Z
LAST-MODIFIED:20260113T020343Z
UID:1635-1773619200-1775519999@theresadognc.com
SUMMARY:Group Socialization Class
DESCRIPTION:Learn:\n• Total Focus during the Walk\n• Walking with Distractions\n• Understanding the Pack\n• Understanding Play Styles with Off-Leash Work\n\nClasses will be held at both The Training Center (1325 S. Fulton St.) & OUTDOORS at Pitner Dog Park (315 Martin Luther King Jr. S.)\nBest for dogs 10 months old and older.
URL:https://theresadognc.com/event/group-socialization-class/
CATEGORIES:Adults
ATTACH;FMTTYPE=image/png:https://theresadognc.com/wp-content/uploads/2026/01/GroupSocial_2026.png
END:VEVENT
BEGIN:VEVENT
DTSTART;VALUE=DATE:20260307
DTEND;VALUE=DATE:20260329
DTSTAMP:20260419T220528
CREATED:20260113T015649Z
LAST-MODIFIED:20260113T015649Z
UID:1633-1772841600-1774742399@theresadognc.com
SUMMARY:Socialization Training for Puppies
DESCRIPTION:Learn:\n• Pack Order: Structure & Leadership in the home\n• Problem Prevention; Chewing\, Barking\, & Jumping\n• Basic Manners: Focus\, Sit\, Stay\, & Down\n• Body Language: What are you telling your dog? What is your dog telling you?\n• Socialization with People & Other Dogs\n\nClasses are held at The Training Center at 1325 S. Fulton Street.\nBest for puppies 11 months old and younger
URL:https://theresadognc.com/event/socialization-training-for-puppies/
CATEGORIES:Puppy
ATTACH;FMTTYPE=image/png:https://theresadognc.com/wp-content/uploads/2026/01/Puppy-Socialize_Mar2026.png
END:VEVENT
END:VCALENDAR